BEGIN:VCALENDAR
PRODID:-//Univeristy of Regina//Site Events//EN
VERSION:2.0
X-WR-CALNAME:UofR - Events
X-WR-TIMEZONE:America/Regina
BEGIN:VTIMEZONE
TZID:America/Regina
BEGIN:DAYLIGHT
TZOFFSETFROM:-0600
TZOFFSETTO:-0600
TZNAME:CST
DTSTART:19700308T020000
RRULE:FREQ=YEARLY;BYMONTH=3;BYDAY=2SU
END:DAYLIGHT
BEGIN:STANDARD
TZOFFSETFROM:-0600
TZOFFSETTO:-0600
TZNAME:UTC
DTSTART:19701101T020000
RRULE:FREQ=YEARLY;BYMONTH=11;BYDAY=1SU
END:STANDARD
END:VTIMEZONE
BEGIN:VEVENT
DTSTART:20260326T190000
DTEND:20260326T210000
DTSTAMP:20260421T150735
UID:9b1dd9268e0398bd2e5b4b99cac6915b
CREATED:20260226T120230
DESCRIPTION:Join us for an evening of discovery! The 3MT Finale showcases 
 UR grad students presenting research that shapes our world&#8212\;in just 
 3 minutes!
LAST-MODIFIED:20260319T100604
SEQUENCE:0
STATUS:CONFIRMED
SUMMARY:3MT Finale
TRANSP:OPAQUE
END:VEVENT
END:VCALENDAR
