BEGIN:VCALENDAR
PRODID:-//Univeristy of Regina//Site Events//EN
VERSION:2.0
X-WR-CALNAME:UofR - Events
X-WR-TIMEZONE:America/Regina
BEGIN:VTIMEZONE
TZID:America/Regina
BEGIN:DAYLIGHT
TZOFFSETFROM:-0600
TZOFFSETTO:-0600
TZNAME:CST
DTSTART:19700308T020000
RRULE:FREQ=YEARLY;BYMONTH=3;BYDAY=2SU
END:DAYLIGHT
BEGIN:STANDARD
TZOFFSETFROM:-0600
TZOFFSETTO:-0600
TZNAME:UTC
DTSTART:19701101T020000
RRULE:FREQ=YEARLY;BYMONTH=11;BYDAY=1SU
END:STANDARD
END:VTIMEZONE
BEGIN:VEVENT
DTSTART:20260422T180000
DTEND:20260422T193000
DTSTAMP:20260414T155305
UID:49da97e68e0398bd7c74f820984417ad
CREATED:20260401T102235
DESCRIPTION:Attend the Bachelor of Social Work After Degree Information Se
 ssion to learn more and hear from the experts from the Faculty of Social W
 ork!
LAST-MODIFIED:20260401T133144
SEQUENCE:0
STATUS:CONFIRMED
SUMMARY:Bachelor of Social Work After Degree - Virtual Information Session
TRANSP:OPAQUE
END:VEVENT
END:VCALENDAR
