BEGIN:VCALENDAR
PRODID:-//Univeristy of Regina//Site Events//EN
VERSION:2.0
X-WR-CALNAME:UofR - Events
X-WR-TIMEZONE:America/Regina
BEGIN:VTIMEZONE
TZID:America/Regina
BEGIN:DAYLIGHT
TZOFFSETFROM:-0600
TZOFFSETTO:-0600
TZNAME:CST
DTSTART:19700308T020000
RRULE:FREQ=YEARLY;BYMONTH=3;BYDAY=2SU
END:DAYLIGHT
BEGIN:STANDARD
TZOFFSETFROM:-0600
TZOFFSETTO:-0600
TZNAME:UTC
DTSTART:19701101T020000
RRULE:FREQ=YEARLY;BYMONTH=11;BYDAY=1SU
END:STANDARD
END:VTIMEZONE
BEGIN:VEVENT
DTSTART:20260421T110000
DTEND:20260421T123000
DTSTAMP:20260414T155307
UID:02d177a48e0398bd45d3fee70323b6b9
CREATED:20260318T151935
DESCRIPTION:Many boys are falling behind academically and gravitating towa
 rd traditional gender roles - how will this impact Canada&apos\;s future w
 orkforce?
LAST-MODIFIED:20260319T154802
SEQUENCE:0
STATUS:CONFIRMED
SUMMARY:Boys and educational attainment: Implications for the future of th
 e Canadian Workforce
TRANSP:OPAQUE
END:VEVENT
END:VCALENDAR
