BEGIN:VCALENDAR
PRODID:-//Univeristy of Regina//Site Events//EN
VERSION:2.0
X-WR-CALNAME:UofR - Events
X-WR-TIMEZONE:America/Regina
BEGIN:VTIMEZONE
TZID:America/Regina
BEGIN:DAYLIGHT
TZOFFSETFROM:-0600
TZOFFSETTO:-0600
TZNAME:CST
DTSTART:19700308T020000
RRULE:FREQ=YEARLY;BYMONTH=3;BYDAY=2SU
END:DAYLIGHT
BEGIN:STANDARD
TZOFFSETFROM:-0600
TZOFFSETTO:-0600
TZNAME:UTC
DTSTART:19701101T020000
RRULE:FREQ=YEARLY;BYMONTH=11;BYDAY=1SU
END:STANDARD
END:VTIMEZONE
BEGIN:VEVENT
DTSTART:20260422T083000
DTEND:20260422T130000
DTSTAMP:20260414T155302
UID:8cc378f08e0398bd71660edb991c8979
CREATED:20260414T101153
DESCRIPTION:Free Coffee (as supplies last) if you bring a reusable mug!
LAST-MODIFIED:20260414T153932
SEQUENCE:0
STATUS:CONFIRMED
SUMMARY:Earth Day Coffee Giveaway
TRANSP:OPAQUE
END:VEVENT
END:VCALENDAR
