BEGIN:VCALENDAR
PRODID:-//Univeristy of Regina//Site Events//EN
VERSION:2.0
X-WR-CALNAME:UofR - Events
X-WR-TIMEZONE:America/Regina
BEGIN:VTIMEZONE
TZID:America/Regina
BEGIN:DAYLIGHT
TZOFFSETFROM:-0600
TZOFFSETTO:-0600
TZNAME:CST
DTSTART:19700308T020000
RRULE:FREQ=YEARLY;BYMONTH=3;BYDAY=2SU
END:DAYLIGHT
BEGIN:STANDARD
TZOFFSETFROM:-0600
TZOFFSETTO:-0600
TZNAME:UTC
DTSTART:19701101T020000
RRULE:FREQ=YEARLY;BYMONTH=11;BYDAY=1SU
END:STANDARD
END:VTIMEZONE
BEGIN:VEVENT
DTSTART:20260422T180000
DTEND:20260422T193000
DTSTAMP:20260414T155303
UID:11ecfc7d8e0398bd76cf4e1180a1c502
CREATED:20250903T173247
DESCRIPTION:During the event\, you&apos\;ll learn about degree programs\, 
 support services for rural students\, scholarships\, financial aid\, and h
 ear firsthand from rural students about their university experience.
LAST-MODIFIED:20250904T092645
SEQUENCE:0
STATUS:CONFIRMED
SUMMARY:UR Information Session - Rural Students
TRANSP:OPAQUE
END:VEVENT
END:VCALENDAR
