BEGIN:VCALENDAR
PRODID:-//Univeristy of Regina//Site Events//EN
VERSION:2.0
X-WR-CALNAME:UofR - Events
X-WR-TIMEZONE:America/Regina
BEGIN:VTIMEZONE
TZID:America/Regina
BEGIN:DAYLIGHT
TZOFFSETFROM:-0600
TZOFFSETTO:-0600
TZNAME:CST
DTSTART:19700308T020000
RRULE:FREQ=YEARLY;BYMONTH=3;BYDAY=2SU
END:DAYLIGHT
BEGIN:STANDARD
TZOFFSETFROM:-0600
TZOFFSETTO:-0600
TZNAME:UTC
DTSTART:19701101T020000
RRULE:FREQ=YEARLY;BYMONTH=11;BYDAY=1SU
END:STANDARD
END:VTIMEZONE
BEGIN:VEVENT
DTSTART:20260422T110000
DTEND:20260422T120000
DTSTAMP:20260414T155302
UID:64a7ca0c8e0398bd28218948e1d8ccf5
CREATED:20260406T151651
DESCRIPTION:Is the most pressing issue facing the Canadian co-operative mo
 vement a lack of awareness about the co-operative model? A recent survey s
 ays perhaps not!
LAST-MODIFIED:20260406T154040
SEQUENCE:0
STATUS:CONFIRMED
SUMMARY:What do Canadians think of Co-operatives? featuring Charlie Graves
TRANSP:OPAQUE
END:VEVENT
END:VCALENDAR
