BEGIN:VCALENDAR
CALSCALE:GREGORIAN
METHOD:PUBLISH
VERSION:2.0
X-WR-TIMEZONE:America/Regina
X-WR-CALNAME:HR Training
BEGIN:VEVENT
SUMMARY:URManaging:Expectations and Goal Setting
DESCRIPTION:This session is designed to help supervisors understand how to clarify expectations, define and prioritize employee work and develop a basis for ongoing feedback.
LOCATION:CT 215 (La Cite)
SEQUENCE:2
UID:URHR2-819
DTSTAMP:20260424T112234
DTSTART:20190912T083000
DTEND:20190912T113000
BEGIN:VALARM
TRIGGER;VALUE=DURATION:-P5M
ACTION:DISPLAY
DESCRIPTION:Event reminder
END:VALARM
END:VEVENT
END:VCALENDAR
