BEGIN:VCALENDAR
PRODID:-//UofR//Site Events//EN
VERSION:2.0
X-WR-CALNAME:UofR - Multifaith
X-WR-TIMEZONE:America/Regina
BEGIN:VTIMEZONE
TZID:America/Regina
BEGIN:DAYLIGHT
TZOFFSETFROM:-0600
TZOFFSETTO:-0600
TZNAME:CST
END:DAYLIGHT
END:VTIMEZONE
BEGIN:VEVENT
DTSTART:20250417T120000
DTEND:20250417T130000
DTSTAMP:20250408T160023
UID:176465768e0398bd659906b5873c4267
CREATED:20250408T155257
DESCRIPTION:Thursday Daily Noon Mass
LAST-MODIFIED:20250408T155614
SEQUENCE:0
STATUS:CONFIRMED
SUMMARY:Holy Week 2025: Daily Noon Mass
TRANSP:OPAQUE
END:VEVENT
END:VCALENDAR
