BEGIN:VCALENDAR
PRODID:-//UofR//Site Events//EN
VERSION:2.0
X-WR-CALNAME:UofR - UR International
X-WR-TIMEZONE:America/Regina
BEGIN:VTIMEZONE
TZID:America/Regina
BEGIN:DAYLIGHT
TZOFFSETFROM:-0600
TZOFFSETTO:-0600
TZNAME:CST
END:DAYLIGHT
END:VTIMEZONE
BEGIN:VEVENT
DTSTART:20260831T084500
DTEND:20260831T150000
DTSTAMP:20260326T082119
UID:2a806b168e0398bd29cd31b49b91460b
CREATED:20260326T081552
DESCRIPTION:Kick start your first term at the Fall 2026 New Student Orient
 ation!
LAST-MODIFIED:20260326T082114
SEQUENCE:0
STATUS:CONFIRMED
SUMMARY:Fall 2026 New Student Orientation
TRANSP:OPAQUE
END:VEVENT
END:VCALENDAR
