BEGIN:VCALENDAR
PRODID:-//UofR//Site Events//EN
VERSION:2.0
X-WR-CALNAME:UofR - UR International
X-WR-TIMEZONE:America/Regina
BEGIN:VTIMEZONE
TZID:America/Regina
BEGIN:DAYLIGHT
TZOFFSETFROM:-0600
TZOFFSETTO:-0600
TZNAME:CST
END:DAYLIGHT
END:VTIMEZONE
BEGIN:VEVENT
DTSTART:20260105T123000
DTEND:20260105T160000
DTSTAMP:20251106T143427
UID:5ac9b5a68e0398bd6d560b0aa00e2ad6
CREATED:20251106T140919
DESCRIPTION:Kick start your first term at the Winter 2026 New Student Orie
 ntation!
LAST-MODIFIED:20251106T143119
SEQUENCE:0
STATUS:CONFIRMED
SUMMARY:Winter 2026 New Student Orientation
TRANSP:OPAQUE
END:VEVENT
END:VCALENDAR
